BEGIN:VCALENDAR
VERSION:2.0
PRODID:-//Andar360 v1.0//EN
BEGIN:VEVENT
UID:davidf@demo.andar360.com
DTSTAMP:20260421T125440Z
DTSTART:
SUMMARY:Dispute Mediator
DESCRIPTION:Opportunity: Dispute Mediator\nAgency: Dispute Resolution Servi
 ces\n\nMediation is a way for people to solve their problems with the help 
 of an impartial third person, the mediator. The mediator assists everyone i
 nvolved to talk about the problem in a safe and confidential setting. When 
 everyone agrees on how to solve the problem, the mediator puts the agreemen
 t into writing. Courts generally honor these agreements as binding contract
 s. Mediation may be requested before or after a case is filed in court. Med
 iation takes less time and money than going to court and is private. Statis
 tics have shown that at least 80% of the disputes that go to mediation are 
 resolved. Mediation works because the people with the problem participate o
 f their own free will and have a say in the outcomes.\n\nOpportunity Type: 
 Individual\nLength of Type: Full Time
X-ALT-DESC;FMTTYPE=text/html:Opportunity: Dispute Mediator<br>Agency: <a hr
 ef="https://demo06.andar360.com/Volunteer/VolAgencyInfo.jsp?nbr=7211">Dispu
 te Resolution Services</a><p>Mediation is a way for people to solve their p
 roblems with the help of an impartial third person, the mediator. The media
 tor assists everyone involved to talk about the problem in a safe and confi
 dential setting. When everyone agrees on how to solve the problem, the medi
 ator puts the agreement into writing. Courts generally honor these agreemen
 ts as binding contracts. Mediation may be requested before or after a case 
 is filed in court. Mediation takes less time and money than going to court 
 and is private. Statistics have shown that at least 80% of the disputes tha
 t go to mediation are resolved. Mediation works because the people with the
  problem participate of their own free will and have a say in the outcomes.
 <p>Opportunity Type: Individual<br>Length of Type: Full Time
END:VEVENT
END:VCALENDAR