BEGIN:VCALENDAR
VERSION:2.0
PRODID:-//Andar360 v1.0//EN
BEGIN:VEVENT
UID:keykoncept@aol.com
DTSTAMP:20260421T125440Z
DTSTART:
SUMMARY:Help Line Volunteers
DESCRIPTION:Opportunity: Help Line Volunteers\nAgency: Gryphon Place\n\nVol
 unteers will be responsible for answering phones and referring clients to t
 he appropriate agency or source for help. 35 hours of training are required
  and committment of 200 hours of service per year are required. PLEASE VOLU
 NTEER.\n\nOpportunity Type: Individual\nLength of Type: Full Time\nMinimum 
 age required: 21\nMaximum age required: 99
X-ALT-DESC;FMTTYPE=text/html:Opportunity: Help Line Volunteers<br>Agency: <
 a href="https://demo06.andar360.com/Volunteer/VolAgencyInfo.jsp?nbr=7179">G
 ryphon Place</a><p>Volunteers will be responsible for answering phones and 
 referring clients to the appropriate agency or source for help.  35 hours o
 f training are required and committment of 200 hours of service per year ar
 e required.  PLEASE VOLUNTEER.<p>Opportunity Type: Individual<br>Length of 
 Type: Part Time<br>Minimum age required: 21<br>Maximum age required: 99
END:VEVENT
END:VCALENDAR