BEGIN:VCALENDAR
VERSION:2.0
PRODID:-//Andar360 v1.0//EN
BEGIN:VEVENT
UID:backersp@aol.com
DTSTAMP:20260421T125559Z
DTSTART:20050101T050000Z
SUMMARY:Early Bird Day Care
DESCRIPTION:Opportunity: Early Bird Day Care\nAgency: Jewish Family Service
 s\n\nCaring for children ages 5 to 12 from 6:00 AM to 8:30, until picked up
  for school by district transportation services.\n\nOpportunity Type: Indiv
 idual\nLength of Type: Part Time\nRequired: Patience\nSupplied: Juice and p
 ower bars
X-ALT-DESC;FMTTYPE=text/html:Opportunity: Early Bird Day Care<br>Agency: <a
  href="https://demo06.andar360.com/Volunteer/VolAgencyInfo.jsp?nbr=7658">Je
 wish Family Services</a><p>Caring for children ages 5 to 12 from 6:00 AM to
  8:30, until picked up for school by district transportation services.<p>Op
 portunity Type: Individual<br>Length of Type: Part Time<br>Required: Patien
 ce<br>Supplied: Juice and power bars
END:VEVENT
END:VCALENDAR