BEGIN:VCALENDAR
VERSION:2.0
PRODID:-//Andar360 v1.0//EN
BEGIN:VEVENT
UID:uid1@example.com
DTSTAMP:20260421T125559Z
DTSTART:
SUMMARY:Swim for MS Volunteer Program
DESCRIPTION:Opportunity: Swim for MS Volunteer Program\nAgency: National MS
  Society/Allegheny\n\nMSAA recognizes the importance of regular exercise as
  part of an overall wellness approach to effectively manage multiple sclero
 sis (MS). For individuals who may have difficulty with traditional land-bas
 ed activities, the unique properties of water combined with its cool temper
 ature can create an inviting and sometimes ideal exercise environment for p
 eople with MS.\n\nAs part of the Swim for MS initiative, MSAA has created t
 his comprehensive Aquatic Center dedicated to increasing awareness, underst
 anding, and availability of water-based exercise programs as a positive wel
 lness opportunity for the MS community. We have a need for certified lifegu
 ards and educators for this program.\n\nOpportunity Type: Individual\nLengt
 h of Type: Full Time
X-ALT-DESC;FMTTYPE=text/html:Opportunity: Swim for MS Volunteer Program<br>
 Agency: <a href="https://demo06.andar360.com/Volunteer/VolAgencyInfo.jsp?nb
 r=25437">National MS Society/Allegheny</a><p>MSAA recognizes the importance
  of regular exercise as part of an overall wellness approach to effectively
  manage multiple sclerosis (MS). For individuals who may have difficulty wi
 th traditional land-based activities, the unique properties of water combin
 ed with its cool temperature can create an inviting and sometimes ideal exe
 rcise environment for people with MS.<p>As part of the Swim for MS initiati
 ve, MSAA has created this comprehensive Aquatic Center dedicated to increas
 ing awareness, understanding, and availability of water-based exercise prog
 rams as a positive wellness opportunity for the MS community. We have a nee
 d for certified lifeguards and educators for this program.<p>Opportunity Ty
 pe: Individual<br>Length of Type: Full Time
END:VEVENT
END:VCALENDAR