BEGIN:VCALENDAR
VERSION:2.0
PRODID:-//Andar360 v1.0//EN
BEGIN:VEVENT
UID:CBailey@demo.andar360.com
DTSTAMP:20260421T124954Z
DTSTART:
SUMMARY:Dispute Resolution Services Advisory Board
DESCRIPTION:Opportunity: Dispute Resolution Services Advisory Board\nAgency
 : Gryphon Place\n\nThe DRSAB advises the Gryphon Place Board of Directors o
 n Policy matters which affect the Dispute Resolution Services program and a
 lso provides input and community support for the services. Diversity is sou
 ght in order to represent the community, as well as skills and committement
  to non-violent dispute resolution. DRSAB members also assist in Agency Fun
 d Raising on behalf of DRS.\n\nOpportunity Type: Individual\nLength of Type
 : Part Time
X-ALT-DESC;FMTTYPE=text/html:Opportunity: Dispute Resolution Services Advis
 ory Board<br>Agency: <a href="https://demo06.andar360.com/Volunteer/VolAgen
 cyInfo.jsp?nbr=7179">Gryphon Place</a><p>The DRSAB advises the Gryphon Plac
 e Board of Directors on Policy matters which affect the Dispute Resolution 
 Services program and also provides input and community support for the serv
 ices. Diversity is sought in order to represent the community, as well as s
 kills and committement to non-violent dispute resolution. DRSAB members als
 o assist in Agency Fund Raising on behalf of DRS.<p>Opportunity Type: Indiv
 idual<br>Length of Type: Part Time
END:VEVENT
END:VCALENDAR