BEGIN:VCALENDAR
VERSION:2.0
PRODID:-//Andar360 v1.0//EN
BEGIN:VEVENT
UID:davidf@demo.andar360.com
DTSTAMP:20260421T125238Z
DTSTART:
SUMMARY:New Client Mentors
DESCRIPTION:Opportunity: New Client Mentors\nAgency: Gryphon Place\n\nThese
  volunteers will help to make our new clients feel welcome.\n\nOpportunity 
 Type: Individual\nLength of Type: \nMinimum age required: 18
X-ALT-DESC;FMTTYPE=text/html:Opportunity: New Client Mentors<br>Agency: <a 
 href="https://demo06.andar360.com/Volunteer/VolAgencyInfo.jsp?nbr=7179">Gry
 phon Place</a><p><html><body><br><p>These volunteers will help to make our 
 new clients feel welcome.</p><br></body></html><p>Opportunity Type: Individ
 ual<br>Length of Type: <br>Minimum age required: 18
END:VEVENT
END:VCALENDAR